BEGIN:VCALENDAR
VERSION:2.0
PRODID:-//Dyess AFB - 7 FSS - ECPv6.15.20//NONSGML v1.0//EN
CALSCALE:GREGORIAN
METHOD:PUBLISH
X-WR-CALNAME:Dyess AFB - 7 FSS
X-ORIGINAL-URL:https://dyessfss.com
X-WR-CALDESC:Events for Dyess AFB - 7 FSS
REFRESH-INTERVAL;VALUE=DURATION:PT1H
X-Robots-Tag:noindex
X-PUBLISHED-TTL:PT1H
BEGIN:VTIMEZONE
TZID:America/Chicago
BEGIN:DAYLIGHT
TZOFFSETFROM:-0600
TZOFFSETTO:-0500
TZNAME:CDT
DTSTART:20250309T080000
END:DAYLIGHT
BEGIN:STANDARD
TZOFFSETFROM:-0500
TZOFFSETTO:-0600
TZNAME:CST
DTSTART:20251102T070000
END:STANDARD
BEGIN:DAYLIGHT
TZOFFSETFROM:-0600
TZOFFSETTO:-0500
TZNAME:CDT
DTSTART:20260308T080000
END:DAYLIGHT
BEGIN:STANDARD
TZOFFSETFROM:-0500
TZOFFSETTO:-0600
TZNAME:CST
DTSTART:20261101T070000
END:STANDARD
BEGIN:DAYLIGHT
TZOFFSETFROM:-0600
TZOFFSETTO:-0500
TZNAME:CDT
DTSTART:20270314T080000
END:DAYLIGHT
BEGIN:STANDARD
TZOFFSETFROM:-0500
TZOFFSETTO:-0600
TZNAME:CST
DTSTART:20271107T070000
END:STANDARD
END:VTIMEZONE
BEGIN:VEVENT
DTSTART;TZID=America/Chicago:20260422T080000
DTEND;TZID=America/Chicago:20260422T080000
DTSTAMP:20260422T210620
CREATED:20260414T205334Z
LAST-MODIFIED:20260414T205334Z
UID:10000408-1776844800-1776844800@dyessfss.com
SUMMARY:DOD Education Track
DESCRIPTION:2-Day Education workshop delivered by the Dyess Education Center.  Compare costs of schools utilizing GI bill benefits\, search for scholarships and other information relevant to those looking to further their education.  Open to all service members and eligible dependents. Call 325-696-5999 to schedule today. 
URL:https://dyessfss.com/event/dod-education-track-2/
END:VEVENT
BEGIN:VEVENT
DTSTART;TZID=America/Chicago:20260423T093000
DTEND;TZID=America/Chicago:20260423T093000
DTSTAMP:20260422T210620
CREATED:20260414T205334Z
LAST-MODIFIED:20260414T205334Z
UID:10000409-1776936600-1776936600@dyessfss.com
SUMMARY:Reintegration
DESCRIPTION:Required by all AF Members returning from TDY/Remote TDY and a Deployment that are more than 30 days and members PCSing to a Remote assignment. Spouses are highly encouraged to attend. Briefings include Public Health\, MFLC\, Mental Health/ADAPT\, Chaplain\, Safety and Readiness NCO. \nContact: M&FRC\nPhone: 325-696-5999
URL:https://dyessfss.com/event/reintegration-3/
END:VEVENT
BEGIN:VEVENT
DTSTART;TZID=America/Chicago:20260423T130000
DTEND;TZID=America/Chicago:20260423T130000
DTSTAMP:20260422T210620
CREATED:20260414T205534Z
LAST-MODIFIED:20260414T205534Z
UID:10000410-1776949200-1776949200@dyessfss.com
SUMMARY:Homeschool PE 2nd semester
DESCRIPTION:No marketing needed \nHomeschool PE 2nd Semester \nDates: Jan 6 – May 20 \nTuesday/Thursday 1:00-2:00 \nAges: 4-18 \nCost: $25 for 1 child$50 2 or more children \nParents can register their youth on Parent Poral in CYPBMSQuestions contact Dyess Youth Center 325 696 4797 \nContact: holly britton\nEmail: holly.britton.1@us.af.mil\nPhone: 325 696 4797
URL:https://dyessfss.com/event/homeschool-pe-2nd-semester-4/
END:VEVENT
BEGIN:VEVENT
DTSTART;TZID=America/Chicago:20260424T090000
DTEND;TZID=America/Chicago:20260424T090000
DTSTAMP:20260422T210620
CREATED:20260414T205534Z
LAST-MODIFIED:20260414T205534Z
UID:10000411-1777021200-1777021200@dyessfss.com
SUMMARY:EFMP 101
DESCRIPTION:Registration required. Please call the M&FRC at 325-696-5999 or email the EFMP-FS Org Box at 7FSS.FSH.EFMP-FamilySupport@us.af.mil.  \nContact: Jennifer Merritt & Alyssa Hiser\nEmail: 7fss.fsh.efmp-familysupport@us.af.mil\nPhone: 3256965999
URL:https://dyessfss.com/event/efmp-101/
END:VEVENT
BEGIN:VEVENT
DTSTART;TZID=America/Chicago:20260424T100000
DTEND;TZID=America/Chicago:20260424T100000
DTSTAMP:20260422T210620
CREATED:20260414T205534Z
LAST-MODIFIED:20260414T205534Z
UID:10000412-1777024800-1777024800@dyessfss.com
SUMMARY:Pre-Deployment
DESCRIPTION:Required by all AF Members leaving on TDY/Remote TDY or Deployment that are more than 30 days. Spouses are highly encouraged to attend. Briefings include Public Health\, MFLC\, Mental Health/ADAPT\, Chaplain\, Safety and Readiness NCO. Military member must be in uniform. Bring out-processing checklist.  Members must be within 60 days of deployment to attend. \nContact: M&FRC\nPhone: 325-696-5999
URL:https://dyessfss.com/event/pre-deployment/
END:VEVENT
BEGIN:VEVENT
DTSTART;TZID=America/Chicago:20260424T180000
DTEND;TZID=America/Chicago:20260424T180000
DTSTAMP:20260422T210620
CREATED:20260414T205534Z
LAST-MODIFIED:20260414T205534Z
UID:10000413-1777053600-1777053600@dyessfss.com
SUMMARY:Operation Megaphone 2026
DESCRIPTION:Operation Megaphone is an annual event designed by teens for teens to connect military teens worldwide to discuss issues\, promote communication\, and talk about how they can give back to their communities.  This event emphasizes on youth leadership and engagement.
URL:https://dyessfss.com/event/operation-megaphone-2026/
END:VEVENT
BEGIN:VEVENT
DTSTART;TZID=America/Chicago:20260424T180000
DTEND;TZID=America/Chicago:20260424T180000
DTSTAMP:20260422T210620
CREATED:20260414T205535Z
LAST-MODIFIED:20260414T205535Z
UID:10000414-1777053600-1777053600@dyessfss.com
SUMMARY:Month of the Military Child Ball
DESCRIPTION:🎉 Month of the Military Child Ball 🎉 \nJoin us for a special evening to celebrate our military children! This formal event will feature a night of fun\, dancing\, and community. \n📅 When: Friday\, April 24th | 6:00 – 8:30 PM 📍 Where: Hangar Center 👗 Dress to Impress 🍽️ Food Provided 👨‍👩‍👧‍👦 Open to All Ages \nLet’s honor the strength and resilience of our military children—don’t miss this unforgettable night! 💜 \nContact: Darci Hodges\nEmail: darci.hodges@us.af.mil\nPhone: 325-696-4591
URL:https://dyessfss.com/event/month-of-the-military-child-ball/
LOCATION:Hangar Center\, 357 Ave B\, Dyess Air Force Base\, TX\, 79607-1212\, United States
END:VEVENT
BEGIN:VEVENT
DTSTART;TZID=America/Chicago:20260425T113000
DTEND;TZID=America/Chicago:20260425T113000
DTSTAMP:20260422T210620
CREATED:20260414T205734Z
LAST-MODIFIED:20260414T205734Z
UID:10000415-1777116600-1777116600@dyessfss.com
SUMMARY:World's Largest BBQ- Van transportation service
DESCRIPTION:Van transportation services to and from the World’s Largest BBQ. The event is free for all Active Duty\, Reserves\, Guard\, DOW Civilians and their families. Transportation services will cost $5 per person. Pickup times are 11:30am\, 1:30pm and 3:30pm. Pickup locations for Housing Residents are the Youth Center Parking Lot\, Housing Office and the Playground on Washington St. Airman livingin the dorms will be picked up from their dorm parking lot. Must signup by April 22 \nContact: Jesse Stewart\nEmail: dyessafbitt@gmail.com\nPhone: 325-696-5206
URL:https://dyessfss.com/event/worlds-largest-bbq-van-transportation-service/
END:VEVENT
BEGIN:VEVENT
DTSTART;TZID=America/Chicago:20260425T133000
DTEND;TZID=America/Chicago:20260425T133000
DTSTAMP:20260422T210620
CREATED:20260414T205734Z
LAST-MODIFIED:20260414T205734Z
UID:10000417-1777123800-1777123800@dyessfss.com
SUMMARY:Dungeons & Dragons
DESCRIPTION:
URL:https://dyessfss.com/event/dungeons-dragons-3/
END:VEVENT
BEGIN:VEVENT
DTSTART;TZID=America/Chicago:20260425T170000
DTEND;TZID=America/Chicago:20260425T170000
DTSTAMP:20260422T210620
CREATED:20260414T205734Z
LAST-MODIFIED:20260414T205734Z
UID:10000418-1777136400-1777136400@dyessfss.com
SUMMARY:Thunder Alley: Cosmic Bowling
DESCRIPTION:
URL:https://dyessfss.com/event/thunder-alley-cosmic-bowling-2/
END:VEVENT
BEGIN:VEVENT
DTSTART;TZID=America/Chicago:20260425T180000
DTEND;TZID=America/Chicago:20260425T203000
DTSTAMP:20260422T210620
CREATED:20260414T205734Z
LAST-MODIFIED:20260415T164517Z
UID:10000416-1777140000-1777149000@dyessfss.com
SUMMARY:The Month of the Military Child Ball
DESCRIPTION:
URL:https://dyessfss.com/event/the-month-of-the-military-child-2/
END:VEVENT
BEGIN:VEVENT
DTSTART;TZID=America/Chicago:20260427T080000
DTEND;TZID=America/Chicago:20260427T080000
DTSTAMP:20260422T210620
CREATED:20260414T205734Z
LAST-MODIFIED:20260414T205734Z
UID:10000419-1777276800-1777276800@dyessfss.com
SUMMARY:3-Day TAP Class
DESCRIPTION:3-Day Mandatory Transition Class for all separating and retiring service members.  Must complete Initial Counseling and Pre-Separation before attending.  Please call 325-696-5999 for information or to sign up. 
URL:https://dyessfss.com/event/3-day-tap-class-3/
END:VEVENT
BEGIN:VEVENT
DTSTART;TZID=America/Chicago:20260427T140000
DTEND;TZID=America/Chicago:20260427T140000
DTSTAMP:20260422T210620
CREATED:20260414T205934Z
LAST-MODIFIED:20260414T205934Z
UID:10000420-1777298400-1777298400@dyessfss.com
SUMMARY:Tinker Time
DESCRIPTION:Learn with play using building blocks\, magnets\, marbles\, & more! A come & go program for all ages. Every Monday\, excluding Federal Holidays. \nContact: Sara Ritson\nEmail: sara.ritson@us.af.mil\nPhone: 325-696-6873
URL:https://dyessfss.com/event/tinker-time-5/
END:VEVENT
BEGIN:VEVENT
DTSTART;TZID=America/Chicago:20260428T093000
DTEND;TZID=America/Chicago:20260428T093000
DTSTAMP:20260422T210620
CREATED:20260414T205934Z
LAST-MODIFIED:20260414T205934Z
UID:10000421-1777368600-1777368600@dyessfss.com
SUMMARY:Reintegration
DESCRIPTION:Required by all AF Members returning from TDY/Remote TDY and a Deployment that are more than 30 days and members PCSing to a Remote assignment. Spouses are highly encouraged to attend. Briefings include Public Health\, MFLC\, Mental Health/ADAPT\, Chaplain\, Safety and Readiness NCO. \nContact: M&FRC\nPhone: 325-696-5999
URL:https://dyessfss.com/event/reintegration-4/
END:VEVENT
BEGIN:VEVENT
DTSTART;TZID=America/Chicago:20260428T093000
DTEND;TZID=America/Chicago:20260428T093000
DTSTAMP:20260422T210620
CREATED:20260414T205934Z
LAST-MODIFIED:20260414T205934Z
UID:10000422-1777368600-1777368600@dyessfss.com
SUMMARY:Lego Builders
DESCRIPTION:Come build with us at your Dyess Library! We will have an assortment of building materials including Lego’s\, KEVA Blocks\, and more! Come and go program for all ages. Every Tuesday excluding Federal Holidays. \nContact: Sara Ritson\nEmail: sara.ritson@us.af.mil\nPhone: 325-696-6873
URL:https://dyessfss.com/event/lego-builders-6/
END:VEVENT
BEGIN:VEVENT
DTSTART;TZID=America/Chicago:20260428T130000
DTEND;TZID=America/Chicago:20260428T130000
DTSTAMP:20260422T210620
CREATED:20260414T205935Z
LAST-MODIFIED:20260414T205935Z
UID:10000423-1777381200-1777381200@dyessfss.com
SUMMARY:Homeschool PE 2nd semester
DESCRIPTION:No marketing needed \nHomeschool PE 2nd Semester \nDates: Jan 6 – May 20 \nTuesday/Thursday 1:00-2:00 \nAges: 4-18 \nCost: $25 for 1 child$50 2 or more children \nParents can register their youth on Parent Poral in CYPBMSQuestions contact Dyess Youth Center 325 696 4797 \nContact: holly britton\nEmail: holly.britton.1@us.af.mil\nPhone: 325 696 4797
URL:https://dyessfss.com/event/homeschool-pe-2nd-semester-5/
END:VEVENT
BEGIN:VEVENT
DTSTART;TZID=America/Chicago:20260428T163000
DTEND;TZID=America/Chicago:20260428T163000
DTSTAMP:20260422T210620
CREATED:20260414T205935Z
LAST-MODIFIED:20260414T205935Z
UID:10000424-1777393800-1777393800@dyessfss.com
SUMMARY:Dungeons & Dragons Short Sessions
DESCRIPTION:Dungeons & Dragons during the week? Yes\, please! Join us every Tuesday\, excluding holidays\, for a short session of D&D. All experience levels welcome. We have character sheets and dice available. \nContact: Sara Ritson\nEmail: sara.ritson@us.af.mil\nPhone: 325-696-6873
URL:https://dyessfss.com/event/dungeons-dragons-short-sessions-6/
END:VEVENT
BEGIN:VEVENT
DTSTART;TZID=America/Chicago:20260430T080000
DTEND;TZID=America/Chicago:20260430T080000
DTSTAMP:20260422T210620
CREATED:20260414T210134Z
LAST-MODIFIED:20260414T210134Z
UID:10000425-1777536000-1777536000@dyessfss.com
SUMMARY:DOL Employment Track Workshop
DESCRIPTION:2-Day Employment workshop delivered by the Department of Labor spanning resume writing\, interview prep and other great information.  Open to all service members and eligible dependents. Call 325-696-5999 to reserve your spot. 
URL:https://dyessfss.com/event/dol-employment-track-workshop-2/
END:VEVENT
BEGIN:VEVENT
DTSTART;TZID=America/Chicago:20260430T093000
DTEND;TZID=America/Chicago:20260430T093000
DTSTAMP:20260422T210620
CREATED:20260414T210134Z
LAST-MODIFIED:20260414T210134Z
UID:10000426-1777541400-1777541400@dyessfss.com
SUMMARY:Reintegration
DESCRIPTION:Required by all AF Members returning from TDY/Remote TDY and a Deployment that are more than 30 days and members PCSing to a Remote assignment. Spouses are highly encouraged to attend. Briefings include Public Health\, MFLC\, Mental Health/ADAPT\, Chaplain\, Safety and Readiness NCO. \nContact: M&FRC\nPhone: 325-696-5999
URL:https://dyessfss.com/event/reintegration-5/
END:VEVENT
BEGIN:VEVENT
DTSTART;TZID=America/Chicago:20260430T130000
DTEND;TZID=America/Chicago:20260430T130000
DTSTAMP:20260422T210620
CREATED:20260414T210134Z
LAST-MODIFIED:20260414T210134Z
UID:10000427-1777554000-1777554000@dyessfss.com
SUMMARY:Homeschool PE 2nd semester
DESCRIPTION:No marketing needed \nHomeschool PE 2nd Semester \nDates: Jan 6 – May 20 \nTuesday/Thursday 1:00-2:00 \nAges: 4-18 \nCost: $25 for 1 child$50 2 or more children \nParents can register their youth on Parent Poral in CYPBMSQuestions contact Dyess Youth Center 325 696 4797 \nContact: holly britton\nEmail: holly.britton.1@us.af.mil\nPhone: 325 696 4797
URL:https://dyessfss.com/event/homeschool-pe-2nd-semester-6/
END:VEVENT
BEGIN:VEVENT
DTSTART;TZID=America/Chicago:20260430T170000
DTEND;TZID=America/Chicago:20260430T170000
DTSTAMP:20260422T210620
CREATED:20260414T210134Z
LAST-MODIFIED:20260414T210134Z
UID:10000428-1777568400-1777568400@dyessfss.com
SUMMARY:Military Child Signing Day
DESCRIPTION:Contact: Darci Hodges\nEmail: darci.hodges@us.af.mil\nPhone: 325-696-4591
URL:https://dyessfss.com/event/military-child-signing-day/
LOCATION:Hangar Center\, 357 Ave B\, Dyess Air Force Base\, TX\, 79607-1212\, United States
END:VEVENT
END:VCALENDAR