BEGIN:VCALENDAR
VERSION:2.0
PRODID:-//Dyess AFB - 7 FSS - ECPv6.15.20//NONSGML v1.0//EN
CALSCALE:GREGORIAN
METHOD:PUBLISH
X-WR-CALNAME:Dyess AFB - 7 FSS
X-ORIGINAL-URL:https://dyessfss.com
X-WR-CALDESC:Events for Dyess AFB - 7 FSS
REFRESH-INTERVAL;VALUE=DURATION:PT1H
X-Robots-Tag:noindex
X-PUBLISHED-TTL:PT1H
BEGIN:VTIMEZONE
TZID:America/Chicago
BEGIN:DAYLIGHT
TZOFFSETFROM:-0600
TZOFFSETTO:-0500
TZNAME:CDT
DTSTART:20250309T080000
END:DAYLIGHT
BEGIN:STANDARD
TZOFFSETFROM:-0500
TZOFFSETTO:-0600
TZNAME:CST
DTSTART:20251102T070000
END:STANDARD
BEGIN:DAYLIGHT
TZOFFSETFROM:-0600
TZOFFSETTO:-0500
TZNAME:CDT
DTSTART:20260308T080000
END:DAYLIGHT
BEGIN:STANDARD
TZOFFSETFROM:-0500
TZOFFSETTO:-0600
TZNAME:CST
DTSTART:20261101T070000
END:STANDARD
BEGIN:DAYLIGHT
TZOFFSETFROM:-0600
TZOFFSETTO:-0500
TZNAME:CDT
DTSTART:20270314T080000
END:DAYLIGHT
BEGIN:STANDARD
TZOFFSETFROM:-0500
TZOFFSETTO:-0600
TZNAME:CST
DTSTART:20271107T070000
END:STANDARD
END:VTIMEZONE
BEGIN:VEVENT
DTSTART;TZID=America/Chicago:20260601T080000
DTEND;TZID=America/Chicago:20260601T080000
DTSTAMP:20260422T175350
CREATED:20260414T214313Z
LAST-MODIFIED:20260414T214313Z
UID:10000485-1780300800-1780300800@dyessfss.com
SUMMARY:3-Day TAP Class
DESCRIPTION:3-Day Mandatory Transition Class for all separating and retiring service members.  Must complete Initial Counseling and Pre-Separation before attending.  Please call 325-696-5999 for information or to sign up. 
URL:https://dyessfss.com/event/3-day-tap-class-5/
END:VEVENT
BEGIN:VEVENT
DTSTART;TZID=America/Chicago:20260601T090000
DTEND;TZID=America/Chicago:20260601T090000
DTSTAMP:20260422T175350
CREATED:20260414T214313Z
LAST-MODIFIED:20260414T214313Z
UID:10000486-1780304400-1780304400@dyessfss.com
SUMMARY:Summer Gymnastics Camp
DESCRIPTION:This will be a full week Summer Gymnastics Camp. (June 1-5) \nCamp will be held at the Youth Center on Monday\, Wednesday\, and Friday. On Tuesday and Thursday\, we will take a field trip to the Gymnastics Sports Center to use their facility and equipment. The camp will run from 9:00-11:00am \nThe cost is $50.00 per youth. \nAges 5-12 \nYouth will learn the fundamentals of Gymnastics\, including stretching and proper technique. Apparatus will include bar\, beam\, floor and vault. We will also play fun games while being physically active! \nDocuments needed: current sports physical and updated immunizations to include FLU \nParents can register their youth on Parent Poral in CYPBMSQuestions contact Dyess Youth Center 325 696 4797\nContact: Holly Britton\nEmail: holly.britton.1@us.af.mil\nPhone: 325 696 4797
URL:https://dyessfss.com/event/summer-gymnastics-camp/
END:VEVENT
BEGIN:VEVENT
DTSTART;TZID=America/Chicago:20260601T140000
DTEND;TZID=America/Chicago:20260601T140000
DTSTAMP:20260422T175350
CREATED:20260414T214313Z
LAST-MODIFIED:20260414T214313Z
UID:10000487-1780322400-1780322400@dyessfss.com
SUMMARY:Tinker Time
DESCRIPTION:Learn with play using building blocks\, magnets\, marbles\, & more! A come & go program for all ages. Every Monday\, excluding Federal Holidays. \nContact: Sara Ritson\nEmail: sara.ritson@us.af.mil\nPhone: 325-696-6873
URL:https://dyessfss.com/event/tinker-time-10/
END:VEVENT
BEGIN:VEVENT
DTSTART;TZID=America/Chicago:20260602T093000
DTEND;TZID=America/Chicago:20260602T093000
DTSTAMP:20260422T175350
CREATED:20260414T214314Z
LAST-MODIFIED:20260414T214314Z
UID:10000488-1780392600-1780392600@dyessfss.com
SUMMARY:Reintegration
DESCRIPTION:Required by all AF Members returning from TDY/Remote TDY and a Deployment that are more than 30 days and members PCSing to a Remote assignment. Spouses are highly encouraged to attend. Briefings include Public Health\, MFLC\, Mental Health/ADAPT\, Chaplain\, Safety and Readiness NCO. \nContact: M&FRC\nPhone: 325-696-5999
URL:https://dyessfss.com/event/reintegration-13/
END:VEVENT
BEGIN:VEVENT
DTSTART;TZID=America/Chicago:20260602T093000
DTEND;TZID=America/Chicago:20260602T093000
DTSTAMP:20260422T175350
CREATED:20260414T214314Z
LAST-MODIFIED:20260414T214314Z
UID:10000489-1780392600-1780392600@dyessfss.com
SUMMARY:Lego Builders
DESCRIPTION:Come build with us at your Dyess Library! We will have an assortment of building materials including Lego’s\, KEVA Blocks\, and more! Come and go program for all ages. Every Tuesday excluding Federal Holidays. \nContact: Sara Ritson\nEmail: sara.ritson@us.af.mil\nPhone: 325-696-6873
URL:https://dyessfss.com/event/lego-builders-11/
END:VEVENT
BEGIN:VEVENT
DTSTART;TZID=America/Chicago:20260602T163000
DTEND;TZID=America/Chicago:20260602T163000
DTSTAMP:20260422T175350
CREATED:20260414T214513Z
LAST-MODIFIED:20260414T214513Z
UID:10000490-1780417800-1780417800@dyessfss.com
SUMMARY:Dungeons & Dragons Short Sessions
DESCRIPTION:Dungeons & Dragons during the week? Yes\, please! Join us every Tuesday\, excluding holidays\, for a short session of D&D. All experience levels welcome. We have character sheets and dice available. \nContact: Sara Ritson\nEmail: sara.ritson@us.af.mil\nPhone: 325-696-6873
URL:https://dyessfss.com/event/dungeons-dragons-short-sessions-11/
END:VEVENT
BEGIN:VEVENT
DTSTART;TZID=America/Chicago:20260603T080000
DTEND;TZID=America/Chicago:20260603T080000
DTSTAMP:20260422T175350
CREATED:20260414T214513Z
LAST-MODIFIED:20260414T214513Z
UID:10000491-1780473600-1780473600@dyessfss.com
SUMMARY:Newcomers' Orientation
DESCRIPTION:Workshop introducing newly arriving personnel and their family members to the key personnel and services located on the base with briefers from multiple base organizations.  \nSpouses are encouraged to attend. Info-fair takes place from 0840 to 915. \nContact: Military and Family Readiness Center\nEmail: 7fss.a.frc@us.af.mil\nPhone: 325-696-5999
URL:https://dyessfss.com/event/newcomers-orientation-2/
LOCATION:Hangar Center\, 357 Ave B\, Dyess Air Force Base\, TX\, 79607-1212\, United States
END:VEVENT
BEGIN:VEVENT
DTSTART;TZID=America/Chicago:20260604T080000
DTEND;TZID=America/Chicago:20260604T080000
DTSTAMP:20260422T175350
CREATED:20260414T214513Z
LAST-MODIFIED:20260414T214513Z
UID:10000492-1780560000-1780560000@dyessfss.com
SUMMARY:DOL Employment Track Workshop
DESCRIPTION:2-Day Employment workshop delivered by the Department of Labor spanning resume writing\, interview prep and other great information.  Open to all service members and eligible dependents. Call 325-696-5999 to reserve your spot. 
URL:https://dyessfss.com/event/dol-employment-track-workshop-4/
END:VEVENT
BEGIN:VEVENT
DTSTART;TZID=America/Chicago:20260604T093000
DTEND;TZID=America/Chicago:20260604T093000
DTSTAMP:20260422T175350
CREATED:20260414T214513Z
LAST-MODIFIED:20260414T214513Z
UID:10000493-1780565400-1780565400@dyessfss.com
SUMMARY:Reintegration
DESCRIPTION:Required by all AF Members returning from TDY/Remote TDY and a Deployment that are more than 30 days and members PCSing to a Remote assignment. Spouses are highly encouraged to attend. Briefings include Public Health\, MFLC\, Mental Health/ADAPT\, Chaplain\, Safety and Readiness NCO. \nContact: M&FRC\nPhone: 325-696-5999
URL:https://dyessfss.com/event/reintegration-14/
END:VEVENT
BEGIN:VEVENT
DTSTART;TZID=America/Chicago:20260604T120000
DTEND;TZID=America/Chicago:20260604T120000
DTSTAMP:20260422T175350
CREATED:20260414T214514Z
LAST-MODIFIED:20260414T214514Z
UID:10000494-1780574400-1780574400@dyessfss.com
SUMMARY:Make & Take Crafts
DESCRIPTION:Do you like making crafts? So do we! Every Thursday during our Summer Reading Program your Dyess Library will offer a different craft each week. Available while supplies last. Free for all ages. Call 325-696-6873 with any questions. \nContact: Sara Ritson\nEmail: sara.ritson@us.af.mil\nPhone: 325-696-6873
URL:https://dyessfss.com/event/make-take-crafts-2/
END:VEVENT
END:VCALENDAR